BEGIN:VCALENDAR
VERSION:2.0
PRODID:-//4*S Naturparkhotel Adler - ECPv6.15.16.1//NONSGML v1.0//EN
CALSCALE:GREGORIAN
METHOD:PUBLISH
X-WR-CALNAME:4*S Naturparkhotel Adler
X-ORIGINAL-URL:https://www.naturparkhotel-adler.de
X-WR-CALDESC:Veranstaltungen für 4*S Naturparkhotel Adler
REFRESH-INTERVAL;VALUE=DURATION:PT1H
X-Robots-Tag:noindex
X-PUBLISHED-TTL:PT1H
BEGIN:VTIMEZONE
TZID:Europe/Berlin
BEGIN:DAYLIGHT
TZOFFSETFROM:+0100
TZOFFSETTO:+0200
TZNAME:CEST
DTSTART:20250330T010000
END:DAYLIGHT
BEGIN:STANDARD
TZOFFSETFROM:+0200
TZOFFSETTO:+0100
TZNAME:CET
DTSTART:20251026T010000
END:STANDARD
BEGIN:DAYLIGHT
TZOFFSETFROM:+0100
TZOFFSETTO:+0200
TZNAME:CEST
DTSTART:20260329T010000
END:DAYLIGHT
BEGIN:STANDARD
TZOFFSETFROM:+0200
TZOFFSETTO:+0100
TZNAME:CET
DTSTART:20261025T010000
END:STANDARD
BEGIN:DAYLIGHT
TZOFFSETFROM:+0100
TZOFFSETTO:+0200
TZNAME:CEST
DTSTART:20270328T010000
END:DAYLIGHT
BEGIN:STANDARD
TZOFFSETFROM:+0200
TZOFFSETTO:+0100
TZNAME:CET
DTSTART:20271031T010000
END:STANDARD
END:VTIMEZONE
BEGIN:VEVENT
DTSTART;TZID=Europe/Berlin:20260424T133000
DTEND;TZID=Europe/Berlin:20260424T134500
DTSTAMP:20260424T014106
CREATED:20260414T082924Z
LAST-MODIFIED:20260414T082924Z
UID:129298-1777037400-1777038300@www.naturparkhotel-adler.de
SUMMARY:Klarheit & Frische Aufguss mit Esther
DESCRIPTION:in der Panoramasauna
URL:https://www.naturparkhotel-adler.de/event/klarheit-frische-aufguss-mit-esther-8/
END:VEVENT
BEGIN:VEVENT
DTSTART;TZID=Europe/Berlin:20260424T141500
DTEND;TZID=Europe/Berlin:20260424T143000
DTSTAMP:20260424T014106
CREATED:20260414T083019Z
LAST-MODIFIED:20260414T083019Z
UID:129300-1777040100-1777041000@www.naturparkhotel-adler.de
SUMMARY:Salzpeeling mit Esther
DESCRIPTION:in der Dampfsauna\, Anmeldung erforderlich!
URL:https://www.naturparkhotel-adler.de/event/salzpeeling-mit-esther-118/
END:VEVENT
BEGIN:VEVENT
DTSTART;TZID=Europe/Berlin:20260424T151500
DTEND;TZID=Europe/Berlin:20260424T153000
DTSTAMP:20260424T014106
CREATED:20260414T083124Z
LAST-MODIFIED:20260414T083124Z
UID:129305-1777043700-1777044600@www.naturparkhotel-adler.de
SUMMARY:Blütenhauch Aufguss mit Esther
DESCRIPTION:in der Panoramasauna
URL:https://www.naturparkhotel-adler.de/event/bluetenhauch-aufguss-mit-esther/
END:VEVENT
BEGIN:VEVENT
DTSTART;TZID=Europe/Berlin:20260424T160000
DTEND;TZID=Europe/Berlin:20260424T161500
DTSTAMP:20260424T014106
CREATED:20260414T083222Z
LAST-MODIFIED:20260414T083222Z
UID:129307-1777046400-1777047300@www.naturparkhotel-adler.de
SUMMARY:Salzpeeling mit Esther
DESCRIPTION:in der Dampfsauna\, Anmeldung erforderlich!
URL:https://www.naturparkhotel-adler.de/event/salzpeeling-mit-esther-119/
END:VEVENT
BEGIN:VEVENT
DTSTART;TZID=Europe/Berlin:20260424T163000
DTEND;TZID=Europe/Berlin:20260424T173000
DTSTAMP:20260424T014106
CREATED:20260414T083333Z
LAST-MODIFIED:20260414T083333Z
UID:129312-1777048200-1777051800@www.naturparkhotel-adler.de
SUMMARY:Entspannung für Körper\, Geist & Seele mit Esther
DESCRIPTION:im Gymnastikraum\, Anmeldung erforderlich!
URL:https://www.naturparkhotel-adler.de/event/entspannung-fuer-koerper-geist-seele-mit-esther-9/
END:VEVENT
BEGIN:VEVENT
DTSTART;TZID=Europe/Berlin:20260424T180000
DTEND;TZID=Europe/Berlin:20260424T181500
DTSTAMP:20260424T014106
CREATED:20260414T083439Z
LAST-MODIFIED:20260414T083439Z
UID:129314-1777053600-1777054500@www.naturparkhotel-adler.de
SUMMARY:Candlelight - sanfter Lichteraufguss mit Esther
DESCRIPTION:in der Panoramasauna
URL:https://www.naturparkhotel-adler.de/event/candlelight-sanfter-lichteraufguss-mit-esther-11/
END:VEVENT
END:VCALENDAR