BEGIN:VCALENDAR
VERSION:2.0
PRODID:-//4*S Naturparkhotel Adler - ECPv6.15.16.1//NONSGML v1.0//EN
CALSCALE:GREGORIAN
METHOD:PUBLISH
X-WR-CALNAME:4*S Naturparkhotel Adler
X-ORIGINAL-URL:https://www.naturparkhotel-adler.de
X-WR-CALDESC:Veranstaltungen für 4*S Naturparkhotel Adler
REFRESH-INTERVAL;VALUE=DURATION:PT1H
X-Robots-Tag:noindex
X-PUBLISHED-TTL:PT1H
BEGIN:VTIMEZONE
TZID:Europe/Berlin
BEGIN:DAYLIGHT
TZOFFSETFROM:+0100
TZOFFSETTO:+0200
TZNAME:CEST
DTSTART:20250330T010000
END:DAYLIGHT
BEGIN:STANDARD
TZOFFSETFROM:+0200
TZOFFSETTO:+0100
TZNAME:CET
DTSTART:20251026T010000
END:STANDARD
BEGIN:DAYLIGHT
TZOFFSETFROM:+0100
TZOFFSETTO:+0200
TZNAME:CEST
DTSTART:20260329T010000
END:DAYLIGHT
BEGIN:STANDARD
TZOFFSETFROM:+0200
TZOFFSETTO:+0100
TZNAME:CET
DTSTART:20261025T010000
END:STANDARD
BEGIN:DAYLIGHT
TZOFFSETFROM:+0100
TZOFFSETTO:+0200
TZNAME:CEST
DTSTART:20270328T010000
END:DAYLIGHT
BEGIN:STANDARD
TZOFFSETFROM:+0200
TZOFFSETTO:+0100
TZNAME:CET
DTSTART:20271031T010000
END:STANDARD
END:VTIMEZONE
BEGIN:VEVENT
DTSTART;TZID=Europe/Berlin:20260425T080000
DTEND;TZID=Europe/Berlin:20260425T170000
DTSTAMP:20260425T160759
CREATED:20260425T073014Z
LAST-MODIFIED:20260425T073014Z
UID:129648-1777104000-1777136400@www.naturparkhotel-adler.de
SUMMARY:Eröffnung der Hängebrücke NECKARLINE in Rottweil
DESCRIPTION:Vom 24. bis 26. April 2026 feiert die älteste Stadt Baden Württembergs\, die Eröffnung der Hängebrücke NECKARLINE in Rottweil. Die spektakuläre Hängebrücke spannt sich 606 Meter weit und 60 Meter hoch über das Neckartal und verbindet künftig das Berner Feld mit\nder historischen Innenstadt. Mit einem abwechslungsreichen Programm\, vielen Aktionen und besonderen Momenten lädt Rottweil dazu ein\, diese neue Verbindung über dem Neckar erstmals gemeinsam zu erleben.
URL:https://www.naturparkhotel-adler.de/event/eroeffnung-der-haengebruecke-neckarline-in-rottweil/
END:VEVENT
BEGIN:VEVENT
DTSTART;TZID=Europe/Berlin:20260425T110000
DTEND;TZID=Europe/Berlin:20260425T111500
DTSTAMP:20260425T160759
CREATED:20260414T083616Z
LAST-MODIFIED:20260414T083616Z
UID:129318-1777114800-1777115700@www.naturparkhotel-adler.de
SUMMARY:Klangschalenaufguss mit Esther
DESCRIPTION:in der Panoramasauna
URL:https://www.naturparkhotel-adler.de/event/klangschalenaufguss-mit-esther-37/
END:VEVENT
BEGIN:VEVENT
DTSTART;TZID=Europe/Berlin:20260425T114500
DTEND;TZID=Europe/Berlin:20260425T120000
DTSTAMP:20260425T160759
CREATED:20260414T083711Z
LAST-MODIFIED:20260414T083711Z
UID:129320-1777117500-1777118400@www.naturparkhotel-adler.de
SUMMARY:Salzpeeling mit Esther
DESCRIPTION:in der Dampfsauna\, Anmeldung erforderlich!
URL:https://www.naturparkhotel-adler.de/event/salzpeeling-mit-esther-120/
END:VEVENT
BEGIN:VEVENT
DTSTART;TZID=Europe/Berlin:20260425T123000
DTEND;TZID=Europe/Berlin:20260425T124500
DTSTAMP:20260425T160759
CREATED:20260414T083804Z
LAST-MODIFIED:20260414T083804Z
UID:129327-1777120200-1777121100@www.naturparkhotel-adler.de
SUMMARY:Honigtraum Aufguss mit Esther
DESCRIPTION:in der Panoramasauna
URL:https://www.naturparkhotel-adler.de/event/honigtraum-aufguss-mit-esther-6/
END:VEVENT
BEGIN:VEVENT
DTSTART;TZID=Europe/Berlin:20260425T131500
DTEND;TZID=Europe/Berlin:20260425T133000
DTSTAMP:20260425T160759
CREATED:20260414T083859Z
LAST-MODIFIED:20260414T083859Z
UID:129331-1777122900-1777123800@www.naturparkhotel-adler.de
SUMMARY:Salzpeeling mit Esther
DESCRIPTION:in der Dampfsauna\, Anmeldung erforderlich!
URL:https://www.naturparkhotel-adler.de/event/salzpeeling-mit-esther-121/
END:VEVENT
BEGIN:VEVENT
DTSTART;TZID=Europe/Berlin:20260425T140000
DTEND;TZID=Europe/Berlin:20260425T141500
DTSTAMP:20260425T160759
CREATED:20260414T084022Z
LAST-MODIFIED:20260414T084022Z
UID:129336-1777125600-1777126500@www.naturparkhotel-adler.de
SUMMARY:Orangenglück Aufguss mit Esther
DESCRIPTION:in der Panoramasauna
URL:https://www.naturparkhotel-adler.de/event/orangenglueck-aufguss-mit-esther/
END:VEVENT
BEGIN:VEVENT
DTSTART;TZID=Europe/Berlin:20260425T144500
DTEND;TZID=Europe/Berlin:20260425T150000
DTSTAMP:20260425T160759
CREATED:20260414T084129Z
LAST-MODIFIED:20260414T084129Z
UID:129338-1777128300-1777129200@www.naturparkhotel-adler.de
SUMMARY:Salzpeeling mit Esther
DESCRIPTION:in der Dampfsauna\, Anmeldung erforderlich!
URL:https://www.naturparkhotel-adler.de/event/salzpeeling-mit-esther-122/
END:VEVENT
BEGIN:VEVENT
DTSTART;TZID=Europe/Berlin:20260425T150000
DTEND;TZID=Europe/Berlin:20260425T153000
DTSTAMP:20260425T160759
CREATED:20260405T101814Z
LAST-MODIFIED:20260405T101814Z
UID:129121-1777129200-1777131000@www.naturparkhotel-adler.de
SUMMARY:Aqua Gym mit Angela
DESCRIPTION:im Schwimmbad\, Anmeldung erforderlich!
URL:https://www.naturparkhotel-adler.de/event/aqua-gym-mit-angela-17/
END:VEVENT
BEGIN:VEVENT
DTSTART;TZID=Europe/Berlin:20260425T160000
DTEND;TZID=Europe/Berlin:20260425T170000
DTSTAMP:20260425T160759
CREATED:20260405T101634Z
LAST-MODIFIED:20260405T101634Z
UID:129119-1777132800-1777136400@www.naturparkhotel-adler.de
SUMMARY:Entspannung mit Kräutern & Harzen mit Angela
DESCRIPTION:im Gymnastikraum\, Anmeldung erforderlich!
URL:https://www.naturparkhotel-adler.de/event/entspannung-mit-kraeutern-harzen-mit-angela-2/
END:VEVENT
END:VCALENDAR