BEGIN:VCALENDAR
VERSION:2.0
PRODID:-//4*S Naturparkhotel Adler - ECPv6.15.16.1//NONSGML v1.0//EN
CALSCALE:GREGORIAN
METHOD:PUBLISH
X-ORIGINAL-URL:https://www.naturparkhotel-adler.de
X-WR-CALDESC:Veranstaltungen für 4*S Naturparkhotel Adler
REFRESH-INTERVAL;VALUE=DURATION:PT1H
X-Robots-Tag:noindex
X-PUBLISHED-TTL:PT1H
BEGIN:VTIMEZONE
TZID:Europe/Berlin
BEGIN:DAYLIGHT
TZOFFSETFROM:+0100
TZOFFSETTO:+0200
TZNAME:CEST
DTSTART:20250330T010000
END:DAYLIGHT
BEGIN:STANDARD
TZOFFSETFROM:+0200
TZOFFSETTO:+0100
TZNAME:CET
DTSTART:20251026T010000
END:STANDARD
BEGIN:DAYLIGHT
TZOFFSETFROM:+0100
TZOFFSETTO:+0200
TZNAME:CEST
DTSTART:20260329T010000
END:DAYLIGHT
BEGIN:STANDARD
TZOFFSETFROM:+0200
TZOFFSETTO:+0100
TZNAME:CET
DTSTART:20261025T010000
END:STANDARD
BEGIN:DAYLIGHT
TZOFFSETFROM:+0100
TZOFFSETTO:+0200
TZNAME:CEST
DTSTART:20270328T010000
END:DAYLIGHT
BEGIN:STANDARD
TZOFFSETFROM:+0200
TZOFFSETTO:+0100
TZNAME:CET
DTSTART:20271031T010000
END:STANDARD
END:VTIMEZONE
BEGIN:VEVENT
DTSTART;TZID=Europe/Berlin:20260427T131500
DTEND;TZID=Europe/Berlin:20260427T133000
DTSTAMP:20260419T235956
CREATED:20260419T095821Z
LAST-MODIFIED:20260419T095821Z
UID:129542-1777295700-1777296600@www.naturparkhotel-adler.de
SUMMARY:Salzpeeling mit Esther
DESCRIPTION:in der Dampfsauna\, Anmeldung erforderlich!
URL:https://www.naturparkhotel-adler.de/event/salzpeeling-mit-esther-124/
END:VEVENT
BEGIN:VEVENT
DTSTART;TZID=Europe/Berlin:20260427T140000
DTEND;TZID=Europe/Berlin:20260427T141500
DTSTAMP:20260419T235956
CREATED:20260419T095915Z
LAST-MODIFIED:20260419T095915Z
UID:129545-1777298400-1777299300@www.naturparkhotel-adler.de
SUMMARY:Gute Laune - Zitronenaufguss mit Esther
DESCRIPTION:in der Panoramasauna
URL:https://www.naturparkhotel-adler.de/event/gute-laune-zitronenaufguss-mit-esther-2/
END:VEVENT
BEGIN:VEVENT
DTSTART;TZID=Europe/Berlin:20260427T144500
DTEND;TZID=Europe/Berlin:20260427T150000
DTSTAMP:20260419T235956
CREATED:20260419T100000Z
LAST-MODIFIED:20260419T100000Z
UID:129549-1777301100-1777302000@www.naturparkhotel-adler.de
SUMMARY:Salzpeeling mit Esther
DESCRIPTION:in der Dampfsauna\, Anmeldung erforderlich!
URL:https://www.naturparkhotel-adler.de/event/salzpeeling-mit-esther-125/
END:VEVENT
BEGIN:VEVENT
DTSTART;TZID=Europe/Berlin:20260428T103000
DTEND;TZID=Europe/Berlin:20260428T123000
DTSTAMP:20260419T235956
CREATED:20260315T110238Z
LAST-MODIFIED:20260315T110238Z
UID:127918-1777372200-1777379400@www.naturparkhotel-adler.de
SUMMARY:Kräuterspaziergang mit Monika
DESCRIPTION:ein Naturspaziergang der besonderen Art\, Anmeldung erforderlich!
URL:https://www.naturparkhotel-adler.de/event/kraeuterspaziergang-mit-monika-23/
END:VEVENT
BEGIN:VEVENT
DTSTART;TZID=Europe/Berlin:20260428T163000
DTEND;TZID=Europe/Berlin:20260428T164500
DTSTAMP:20260419T235956
CREATED:20260415T073443Z
LAST-MODIFIED:20260415T073443Z
UID:129403-1777393800-1777394700@www.naturparkhotel-adler.de
SUMMARY:Saunaaufguss mit Nancy
DESCRIPTION:in der Panoramasauna
URL:https://www.naturparkhotel-adler.de/event/saunaaufguss-mit-nancy-306/
END:VEVENT
BEGIN:VEVENT
DTSTART;TZID=Europe/Berlin:20260428T170000
DTEND;TZID=Europe/Berlin:20260428T171500
DTSTAMP:20260419T235956
CREATED:20260415T073534Z
LAST-MODIFIED:20260415T073534Z
UID:129405-1777395600-1777396500@www.naturparkhotel-adler.de
SUMMARY:Salzpeeling mit Nancy
DESCRIPTION:in der Dampfsauna\, Anmeldung erforderlich!
URL:https://www.naturparkhotel-adler.de/event/salzpeeling-mit-nancy-249/
END:VEVENT
BEGIN:VEVENT
DTSTART;TZID=Europe/Berlin:20260428T173000
DTEND;TZID=Europe/Berlin:20260428T174500
DTSTAMP:20260419T235956
CREATED:20260415T073642Z
LAST-MODIFIED:20260415T073642Z
UID:129412-1777397400-1777398300@www.naturparkhotel-adler.de
SUMMARY:Saunaaufguss mit Nancy
DESCRIPTION:in der Panoramasauna
URL:https://www.naturparkhotel-adler.de/event/saunaaufguss-mit-nancy-307/
END:VEVENT
BEGIN:VEVENT
DTSTART;TZID=Europe/Berlin:20260428T180000
DTEND;TZID=Europe/Berlin:20260428T181500
DTSTAMP:20260419T235956
CREATED:20260415T073740Z
LAST-MODIFIED:20260415T073740Z
UID:129415-1777399200-1777400100@www.naturparkhotel-adler.de
SUMMARY:Salzpeeling mit Nancy
DESCRIPTION:in der Dampfsauna\, Anmeldung erforderlich!
URL:https://www.naturparkhotel-adler.de/event/salzpeeling-mit-nancy-250/
END:VEVENT
BEGIN:VEVENT
DTSTART;TZID=Europe/Berlin:20260428T183000
DTEND;TZID=Europe/Berlin:20260428T184500
DTSTAMP:20260419T235956
CREATED:20260415T073909Z
LAST-MODIFIED:20260415T073909Z
UID:129422-1777401000-1777401900@www.naturparkhotel-adler.de
SUMMARY:Saunaaufguss mit Nancy
DESCRIPTION:in der Panoramasauna
URL:https://www.naturparkhotel-adler.de/event/saunaaufguss-mit-nancy-308/
END:VEVENT
BEGIN:VEVENT
DTSTART;TZID=Europe/Berlin:20260429T163000
DTEND;TZID=Europe/Berlin:20260429T164500
DTSTAMP:20260419T235956
CREATED:20260415T074016Z
LAST-MODIFIED:20260415T074016Z
UID:129426-1777480200-1777481100@www.naturparkhotel-adler.de
SUMMARY:Saunaaufguss mit Nancy
DESCRIPTION:in der Panoramasauna
URL:https://www.naturparkhotel-adler.de/event/saunaaufguss-mit-nancy-312/
END:VEVENT
BEGIN:VEVENT
DTSTART;TZID=Europe/Berlin:20260429T170000
DTEND;TZID=Europe/Berlin:20260429T171500
DTSTAMP:20260419T235956
CREATED:20260415T074103Z
LAST-MODIFIED:20260415T074103Z
UID:129428-1777482000-1777482900@www.naturparkhotel-adler.de
SUMMARY:Salzpeeling mit Nancy
DESCRIPTION:in der Dampfsauna\, Anmeldung erforderlich!
URL:https://www.naturparkhotel-adler.de/event/salzpeeling-mit-nancy-253/
END:VEVENT
BEGIN:VEVENT
DTSTART;TZID=Europe/Berlin:20260429T173000
DTEND;TZID=Europe/Berlin:20260429T174500
DTSTAMP:20260419T235956
CREATED:20260415T074149Z
LAST-MODIFIED:20260415T074149Z
UID:129432-1777483800-1777484700@www.naturparkhotel-adler.de
SUMMARY:Saunaaufguss mit Nancy
DESCRIPTION:in der Panoramasauna
URL:https://www.naturparkhotel-adler.de/event/saunaaufguss-mit-nancy-313/
END:VEVENT
BEGIN:VEVENT
DTSTART;TZID=Europe/Berlin:20260429T180000
DTEND;TZID=Europe/Berlin:20260429T181500
DTSTAMP:20260419T235956
CREATED:20260415T074237Z
LAST-MODIFIED:20260415T074237Z
UID:129437-1777485600-1777486500@www.naturparkhotel-adler.de
SUMMARY:Salzpeeling mit Nancy
DESCRIPTION:in der Dampfsauna\, Anmeldung erforderlich!
URL:https://www.naturparkhotel-adler.de/event/salzpeeling-mit-nancy-254/
END:VEVENT
BEGIN:VEVENT
DTSTART;TZID=Europe/Berlin:20260429T183000
DTEND;TZID=Europe/Berlin:20260429T184500
DTSTAMP:20260419T235956
CREATED:20260415T074320Z
LAST-MODIFIED:20260415T074320Z
UID:129442-1777487400-1777488300@www.naturparkhotel-adler.de
SUMMARY:Saunaaufguss mit Nancy
DESCRIPTION:in der Panoramasauna
URL:https://www.naturparkhotel-adler.de/event/saunaaufguss-mit-nancy-314/
END:VEVENT
BEGIN:VEVENT
DTSTART;TZID=Europe/Berlin:20260430T133000
DTEND;TZID=Europe/Berlin:20260430T134500
DTSTAMP:20260419T235956
CREATED:20260419T100250Z
LAST-MODIFIED:20260419T100250Z
UID:129553-1777555800-1777556700@www.naturparkhotel-adler.de
SUMMARY:Eis & Wärme Aufguss mit Esther
DESCRIPTION:in der Panoramasauna
URL:https://www.naturparkhotel-adler.de/event/eis-waerme-aufguss-mit-esther-14/
END:VEVENT
BEGIN:VEVENT
DTSTART;TZID=Europe/Berlin:20260430T141500
DTEND;TZID=Europe/Berlin:20260430T143000
DTSTAMP:20260419T235956
CREATED:20260419T100336Z
LAST-MODIFIED:20260419T100336Z
UID:129556-1777558500-1777559400@www.naturparkhotel-adler.de
SUMMARY:Salzpeeling mit Esther
DESCRIPTION:in der Dampfsauna\, Anmeldung erforderlich!
URL:https://www.naturparkhotel-adler.de/event/salzpeeling-mit-esther-126/
END:VEVENT
BEGIN:VEVENT
DTSTART;TZID=Europe/Berlin:20260430T150000
DTEND;TZID=Europe/Berlin:20260430T151500
DTSTAMP:20260419T235956
CREATED:20260419T100423Z
LAST-MODIFIED:20260419T100423Z
UID:129560-1777561200-1777562100@www.naturparkhotel-adler.de
SUMMARY:Honigtraum Aufguss mit Esther
DESCRIPTION:in der Panoramasauna
URL:https://www.naturparkhotel-adler.de/event/honigtraum-aufguss-mit-esther-7/
END:VEVENT
BEGIN:VEVENT
DTSTART;TZID=Europe/Berlin:20260430T160000
DTEND;TZID=Europe/Berlin:20260430T170000
DTSTAMP:20260419T235956
CREATED:20260419T100519Z
LAST-MODIFIED:20260419T100519Z
UID:129565-1777564800-1777568400@www.naturparkhotel-adler.de
SUMMARY:Entspannung für Körper\, Geist & Seele mit Esther
DESCRIPTION:im Gymnastikraum\, Anmeldung erforderlich!
URL:https://www.naturparkhotel-adler.de/event/entspannung-fuer-koerper-geist-seele-mit-esther-10/
END:VEVENT
BEGIN:VEVENT
DTSTART;TZID=Europe/Berlin:20260430T170000
DTEND;TZID=Europe/Berlin:20260430T190000
DTSTAMP:20260419T235956
CREATED:20260315T103603Z
LAST-MODIFIED:20260315T103603Z
UID:127898-1777568400-1777575600@www.naturparkhotel-adler.de
SUMMARY:Traditionelles Maibaumstellen in St. Roman
DESCRIPTION:
URL:https://www.naturparkhotel-adler.de/event/traditionelles-maibaumstellen-in-st-roman/
END:VEVENT
BEGIN:VEVENT
DTSTART;TZID=Europe/Berlin:20260430T173000
DTEND;TZID=Europe/Berlin:20260430T174500
DTSTAMP:20260419T235956
CREATED:20260419T100605Z
LAST-MODIFIED:20260419T100605Z
UID:129568-1777570200-1777571100@www.naturparkhotel-adler.de
SUMMARY:Salzpeeling mit Esther
DESCRIPTION:in der Dampfsauna\, Anmeldung erforderlich!
URL:https://www.naturparkhotel-adler.de/event/salzpeeling-mit-esther-127/
END:VEVENT
BEGIN:VEVENT
DTSTART;TZID=Europe/Berlin:20260430T181500
DTEND;TZID=Europe/Berlin:20260430T183000
DTSTAMP:20260419T235956
CREATED:20260419T100704Z
LAST-MODIFIED:20260419T100704Z
UID:129572-1777572900-1777573800@www.naturparkhotel-adler.de
SUMMARY:Abendruhe - Klangschalenaufguss mit Esther
DESCRIPTION:in der Panoramasauna
URL:https://www.naturparkhotel-adler.de/event/abendruhe-klangschalenaufguss-mit-esther-4/
END:VEVENT
BEGIN:VEVENT
DTSTART;TZID=Europe/Berlin:20260501T140000
DTEND;TZID=Europe/Berlin:20260501T150000
DTSTAMP:20260419T235956
CREATED:20260419T100758Z
LAST-MODIFIED:20260419T100758Z
UID:129574-1777644000-1777647600@www.naturparkhotel-adler.de
SUMMARY:Pilates mit Annette
DESCRIPTION:im Gymnastikraum\, Anmeldung erforderlich!
URL:https://www.naturparkhotel-adler.de/event/pilates-mit-annette-14/
END:VEVENT
BEGIN:VEVENT
DTSTART;TZID=Europe/Berlin:20260501T153000
DTEND;TZID=Europe/Berlin:20260501T154500
DTSTAMP:20260419T235956
CREATED:20260419T100851Z
LAST-MODIFIED:20260419T100851Z
UID:129578-1777649400-1777650300@www.naturparkhotel-adler.de
SUMMARY:Saunaaufguss mit Annette
DESCRIPTION:in der Panoramasauna
URL:https://www.naturparkhotel-adler.de/event/saunaaufguss-mit-annette-38/
END:VEVENT
BEGIN:VEVENT
DTSTART;TZID=Europe/Berlin:20260501T160000
DTEND;TZID=Europe/Berlin:20260501T161500
DTSTAMP:20260419T235956
CREATED:20260419T100941Z
LAST-MODIFIED:20260419T100941Z
UID:129582-1777651200-1777652100@www.naturparkhotel-adler.de
SUMMARY:Salzpeeling mit Annette
DESCRIPTION:in der Dampfsauna\, Anmeldung erforderlich!
URL:https://www.naturparkhotel-adler.de/event/salzpeeling-mit-annette-76/
END:VEVENT
BEGIN:VEVENT
DTSTART;TZID=Europe/Berlin:20260501T163000
DTEND;TZID=Europe/Berlin:20260501T164500
DTSTAMP:20260419T235956
CREATED:20260419T101025Z
LAST-MODIFIED:20260419T101025Z
UID:129587-1777653000-1777653900@www.naturparkhotel-adler.de
SUMMARY:Saunaaufguss mit Annette
DESCRIPTION:in der Panoramasauna
URL:https://www.naturparkhotel-adler.de/event/saunaaufguss-mit-annette-39/
END:VEVENT
BEGIN:VEVENT
DTSTART;TZID=Europe/Berlin:20260501T170000
DTEND;TZID=Europe/Berlin:20260501T171500
DTSTAMP:20260419T235956
CREATED:20260419T101110Z
LAST-MODIFIED:20260419T101110Z
UID:129591-1777654800-1777655700@www.naturparkhotel-adler.de
SUMMARY:Salzpeeling mit Annette
DESCRIPTION:in der Dampfsauna\, Anmeldung erforderlich!
URL:https://www.naturparkhotel-adler.de/event/salzpeeling-mit-annette-77/
END:VEVENT
BEGIN:VEVENT
DTSTART;TZID=Europe/Berlin:20260502T090000
DTEND;TZID=Europe/Berlin:20260502T170000
DTSTAMP:20260419T235956
CREATED:20260317T103725Z
LAST-MODIFIED:20260317T103725Z
UID:128306-1777712400-1777741200@www.naturparkhotel-adler.de
SUMMARY:Mineraliensuche auf den großen Halden
DESCRIPTION:Mineralienhalde Grube Clara Wolfach \nKirnbacher Straße 3\, 77709 Wolfach\n\n\n\n\n\n\n\n\n\nSonderöffnung der großen Sachtleben-Halden.\n\n\n\nAn fünf Wochenenden öffnen die großen Mineralienhalden auf dem Gelände der Firma Sachtleben. Zugang nur über die Mineralienhalde. Im Laufe der Jahre haben sich diese Tage zu echten Highlights für professionelle Sammler und Hobbysammler entwickelt. Mineralienfreunde aus aller Welt nehmen die Gelegenheit wahr\, bei noch mehr Auswahl nach neuen Schätzen zu suchen und sich anschließend bei einem Vesper mit anderen Sammlern über die neuesten Funde auszutauschen. Ausreichend Parkmöglichkeiten sind vorhanden. Für das leibliche Wohl wird gesorgt. Anmeldung erwünscht. Bitte melden Sie sich online an unter https://mineralienhalde.com/
URL:https://www.naturparkhotel-adler.de/event/mineraliensuche-auf-den-grossen-halden/
END:VEVENT
BEGIN:VEVENT
DTSTART;TZID=Europe/Berlin:20260502T140000
DTEND;TZID=Europe/Berlin:20260502T150000
DTSTAMP:20260419T235956
CREATED:20260415T074419Z
LAST-MODIFIED:20260415T074419Z
UID:129447-1777730400-1777734000@www.naturparkhotel-adler.de
SUMMARY:Yoga mit Annette
DESCRIPTION:im Gymnastikraum\, Anmeldung erforderlich!
URL:https://www.naturparkhotel-adler.de/event/yoga-mit-annette-23/
END:VEVENT
BEGIN:VEVENT
DTSTART;TZID=Europe/Berlin:20260502T153000
DTEND;TZID=Europe/Berlin:20260502T154500
DTSTAMP:20260419T235956
CREATED:20260415T074500Z
LAST-MODIFIED:20260415T074500Z
UID:129452-1777735800-1777736700@www.naturparkhotel-adler.de
SUMMARY:Saunaaufguss mit Annette
DESCRIPTION:in der Panoramasauna
URL:https://www.naturparkhotel-adler.de/event/saunaaufguss-mit-annette-35/
END:VEVENT
BEGIN:VEVENT
DTSTART;TZID=Europe/Berlin:20260502T160000
DTEND;TZID=Europe/Berlin:20260502T161500
DTSTAMP:20260419T235956
CREATED:20260415T074549Z
LAST-MODIFIED:20260415T074549Z
UID:129456-1777737600-1777738500@www.naturparkhotel-adler.de
SUMMARY:Salzpeeling mit Annette
DESCRIPTION:in der Dampfsauna\, Anmeldung erforderlich!
URL:https://www.naturparkhotel-adler.de/event/salzpeeling-mit-annette-73/
END:VEVENT
END:VCALENDAR