BEGIN:VCALENDAR
VERSION:2.0
PRODID:-//4*S Naturparkhotel Adler - ECPv6.15.16.1//NONSGML v1.0//EN
CALSCALE:GREGORIAN
METHOD:PUBLISH
X-WR-CALNAME:4*S Naturparkhotel Adler
X-ORIGINAL-URL:https://www.naturparkhotel-adler.de/en/
X-WR-CALDESC:Events for 4*S Naturparkhotel Adler
REFRESH-INTERVAL;VALUE=DURATION:PT1H
X-Robots-Tag:noindex
X-PUBLISHED-TTL:PT1H
BEGIN:VTIMEZONE
TZID:Europe/Berlin
BEGIN:DAYLIGHT
TZOFFSETFROM:+0100
TZOFFSETTO:+0200
TZNAME:CEST
DTSTART:20250330T010000
END:DAYLIGHT
BEGIN:STANDARD
TZOFFSETFROM:+0200
TZOFFSETTO:+0100
TZNAME:CET
DTSTART:20251026T010000
END:STANDARD
BEGIN:DAYLIGHT
TZOFFSETFROM:+0100
TZOFFSETTO:+0200
TZNAME:CEST
DTSTART:20260329T010000
END:DAYLIGHT
BEGIN:STANDARD
TZOFFSETFROM:+0200
TZOFFSETTO:+0100
TZNAME:CET
DTSTART:20261025T010000
END:STANDARD
BEGIN:DAYLIGHT
TZOFFSETFROM:+0100
TZOFFSETTO:+0200
TZNAME:CEST
DTSTART:20270328T010000
END:DAYLIGHT
BEGIN:STANDARD
TZOFFSETFROM:+0200
TZOFFSETTO:+0100
TZNAME:CET
DTSTART:20271031T010000
END:STANDARD
END:VTIMEZONE
BEGIN:VEVENT
DTSTART;TZID=Europe/Berlin:20260425T110000
DTEND;TZID=Europe/Berlin:20260425T111500
DTSTAMP:20260422T192732
CREATED:20260414T083616Z
LAST-MODIFIED:20260414T083616Z
UID:129321-1777114800-1777115700@www.naturparkhotel-adler.de
SUMMARY:Singing bowl infusion with Esther
DESCRIPTION:in the panorama sauna
URL:https://www.naturparkhotel-adler.de/en/event/singing-bowl-infusion-with-esther-44/
END:VEVENT
BEGIN:VEVENT
DTSTART;TZID=Europe/Berlin:20260425T114500
DTEND;TZID=Europe/Berlin:20260425T120000
DTSTAMP:20260422T192732
CREATED:20260414T083711Z
LAST-MODIFIED:20260414T083711Z
UID:129325-1777117500-1777118400@www.naturparkhotel-adler.de
SUMMARY:Salt peeling with Esther
DESCRIPTION:in the steam sauna\, registration required!
URL:https://www.naturparkhotel-adler.de/en/event/salt-peeling-with-esther-132/
END:VEVENT
BEGIN:VEVENT
DTSTART;TZID=Europe/Berlin:20260425T123000
DTEND;TZID=Europe/Berlin:20260425T124500
DTSTAMP:20260422T192732
CREATED:20260414T083804Z
LAST-MODIFIED:20260414T083804Z
UID:129330-1777120200-1777121100@www.naturparkhotel-adler.de
SUMMARY:Honey dream infusion with Esther
DESCRIPTION:in the panorama sauna
URL:https://www.naturparkhotel-adler.de/en/event/honey-dream-infusion-with-esther-6/
END:VEVENT
BEGIN:VEVENT
DTSTART;TZID=Europe/Berlin:20260425T131500
DTEND;TZID=Europe/Berlin:20260425T133000
DTSTAMP:20260422T192732
CREATED:20260414T083859Z
LAST-MODIFIED:20260414T083859Z
UID:129335-1777122900-1777123800@www.naturparkhotel-adler.de
SUMMARY:Salt peeling with Esther
DESCRIPTION:in the steam sauna\, registration required!
URL:https://www.naturparkhotel-adler.de/en/event/salt-peeling-with-esther-133/
END:VEVENT
BEGIN:VEVENT
DTSTART;TZID=Europe/Berlin:20260425T144500
DTEND;TZID=Europe/Berlin:20260425T150000
DTSTAMP:20260422T192732
CREATED:20260414T084129Z
LAST-MODIFIED:20260414T084129Z
UID:129340-1777128300-1777129200@www.naturparkhotel-adler.de
SUMMARY:Salt peeling with Esther
DESCRIPTION:in the steam sauna\, registration required!
URL:https://www.naturparkhotel-adler.de/en/event/salt-peeling-with-esther-134/
END:VEVENT
BEGIN:VEVENT
DTSTART;TZID=Europe/Berlin:20260425T150000
DTEND;TZID=Europe/Berlin:20260425T153000
DTSTAMP:20260422T192732
CREATED:20260405T101814Z
LAST-MODIFIED:20260405T101814Z
UID:129123-1777129200-1777131000@www.naturparkhotel-adler.de
SUMMARY:Aqua Gym with Angela
DESCRIPTION:in the swimming pool\, registration required!
URL:https://www.naturparkhotel-adler.de/en/event/aqua-gym-with-angela-21/
END:VEVENT
BEGIN:VEVENT
DTSTART;TZID=Europe/Berlin:20260425T150000
DTEND;TZID=Europe/Berlin:20260425T153000
DTSTAMP:20260422T192732
CREATED:20260414T084229Z
LAST-MODIFIED:20260414T084229Z
UID:129345-1777129200-1777131000@www.naturparkhotel-adler.de
SUMMARY:Aqua Gym with Angela
DESCRIPTION:in the swimming pool\, registration required!
URL:https://www.naturparkhotel-adler.de/en/event/aqua-gym-with-angela-22/
END:VEVENT
BEGIN:VEVENT
DTSTART;TZID=Europe/Berlin:20260426T150000
DTEND;TZID=Europe/Berlin:20260426T160000
DTSTAMP:20260422T192732
CREATED:20260414T084514Z
LAST-MODIFIED:20260414T084514Z
UID:129352-1777215600-1777219200@www.naturparkhotel-adler.de
SUMMARY:Yoga with Annette
DESCRIPTION:in the gymnastics room\, registration required!
URL:https://www.naturparkhotel-adler.de/en/event/yoga-with-annette-21/
END:VEVENT
BEGIN:VEVENT
DTSTART;TZID=Europe/Berlin:20260426T170000
DTEND;TZID=Europe/Berlin:20260426T171500
DTSTAMP:20260422T192732
CREATED:20260414T084735Z
LAST-MODIFIED:20260414T084735Z
UID:129358-1777222800-1777223700@www.naturparkhotel-adler.de
SUMMARY:Salt peeling with Annette
DESCRIPTION:in the steam sauna\, registration required!
URL:https://www.naturparkhotel-adler.de/en/event/salt-peeling-with-annette-72/
END:VEVENT
BEGIN:VEVENT
DTSTART;TZID=Europe/Berlin:20260426T173000
DTEND;TZID=Europe/Berlin:20260426T174500
DTSTAMP:20260422T192732
CREATED:20260414T084907Z
LAST-MODIFIED:20260414T084907Z
UID:129364-1777224600-1777225500@www.naturparkhotel-adler.de
SUMMARY:Sauna infusion with Annette
DESCRIPTION:in the panorama sauna
URL:https://www.naturparkhotel-adler.de/en/event/sauna-infusion-with-annette-33/
END:VEVENT
BEGIN:VEVENT
DTSTART;TZID=Europe/Berlin:20260426T180000
DTEND;TZID=Europe/Berlin:20260426T181500
DTSTAMP:20260422T192732
CREATED:20260414T084954Z
LAST-MODIFIED:20260414T084954Z
UID:129367-1777226400-1777227300@www.naturparkhotel-adler.de
SUMMARY:Salt peeling with Annette
DESCRIPTION:in the steam sauna\, registration required!
URL:https://www.naturparkhotel-adler.de/en/event/salt-peeling-with-annette-73/
END:VEVENT
BEGIN:VEVENT
DTSTART;TZID=Europe/Berlin:20260427T114500
DTEND;TZID=Europe/Berlin:20260427T120000
DTSTAMP:20260422T192732
CREATED:20260419T095636Z
LAST-MODIFIED:20260419T095636Z
UID:129537-1777290300-1777291200@www.naturparkhotel-adler.de
SUMMARY:Salt peeling with Esther
DESCRIPTION:in the steam sauna\, registration required!
URL:https://www.naturparkhotel-adler.de/en/event/salt-peeling-with-esther-135/
END:VEVENT
BEGIN:VEVENT
DTSTART;TZID=Europe/Berlin:20260427T131500
DTEND;TZID=Europe/Berlin:20260427T133000
DTSTAMP:20260422T192732
CREATED:20260419T095821Z
LAST-MODIFIED:20260419T095821Z
UID:129544-1777295700-1777296600@www.naturparkhotel-adler.de
SUMMARY:Salt peeling with Esther
DESCRIPTION:in the steam sauna\, registration required!
URL:https://www.naturparkhotel-adler.de/en/event/salt-peeling-with-esther-136/
END:VEVENT
BEGIN:VEVENT
DTSTART;TZID=Europe/Berlin:20260427T144500
DTEND;TZID=Europe/Berlin:20260427T150000
DTSTAMP:20260422T192732
CREATED:20260419T100000Z
LAST-MODIFIED:20260419T100000Z
UID:129551-1777301100-1777302000@www.naturparkhotel-adler.de
SUMMARY:Salt peeling with Esther
DESCRIPTION:in the steam sauna\, registration required!
URL:https://www.naturparkhotel-adler.de/en/event/salt-peeling-with-esther-137/
END:VEVENT
BEGIN:VEVENT
DTSTART;TZID=Europe/Berlin:20260428T163000
DTEND;TZID=Europe/Berlin:20260428T164500
DTSTAMP:20260422T192732
CREATED:20260415T073443Z
LAST-MODIFIED:20260415T073443Z
UID:129407-1777393800-1777394700@www.naturparkhotel-adler.de
SUMMARY:Sauna infusion with Nancy
DESCRIPTION:in the panorama sauna
URL:https://www.naturparkhotel-adler.de/en/event/sauna-infusion-with-nancy-336/
END:VEVENT
BEGIN:VEVENT
DTSTART;TZID=Europe/Berlin:20260428T170000
DTEND;TZID=Europe/Berlin:20260428T171500
DTSTAMP:20260422T192732
CREATED:20260415T073534Z
LAST-MODIFIED:20260415T073534Z
UID:129409-1777395600-1777396500@www.naturparkhotel-adler.de
SUMMARY:Salt peeling with Nancy
DESCRIPTION:in the steam sauna\, registration required!
URL:https://www.naturparkhotel-adler.de/en/event/salt-peeling-with-nancy-271/
END:VEVENT
BEGIN:VEVENT
DTSTART;TZID=Europe/Berlin:20260428T173000
DTEND;TZID=Europe/Berlin:20260428T174500
DTSTAMP:20260422T192732
CREATED:20260415T073642Z
LAST-MODIFIED:20260415T073642Z
UID:129414-1777397400-1777398300@www.naturparkhotel-adler.de
SUMMARY:Sauna infusion with Nancy
DESCRIPTION:in the panorama sauna
URL:https://www.naturparkhotel-adler.de/en/event/sauna-infusion-with-nancy-337/
END:VEVENT
BEGIN:VEVENT
DTSTART;TZID=Europe/Berlin:20260428T180000
DTEND;TZID=Europe/Berlin:20260428T181500
DTSTAMP:20260422T192732
CREATED:20260415T073740Z
LAST-MODIFIED:20260415T073740Z
UID:129419-1777399200-1777400100@www.naturparkhotel-adler.de
SUMMARY:Salt peeling with Nancy
DESCRIPTION:in the steam sauna\, registration required!
URL:https://www.naturparkhotel-adler.de/en/event/salt-peeling-with-nancy-272/
END:VEVENT
BEGIN:VEVENT
DTSTART;TZID=Europe/Berlin:20260428T183000
DTEND;TZID=Europe/Berlin:20260428T184500
DTSTAMP:20260422T192732
CREATED:20260415T073909Z
LAST-MODIFIED:20260415T073909Z
UID:129424-1777401000-1777401900@www.naturparkhotel-adler.de
SUMMARY:Sauna infusion with Nancy
DESCRIPTION:in the panorama sauna
URL:https://www.naturparkhotel-adler.de/en/event/sauna-infusion-with-nancy-338/
END:VEVENT
BEGIN:VEVENT
DTSTART;TZID=Europe/Berlin:20260429T163000
DTEND;TZID=Europe/Berlin:20260429T164500
DTSTAMP:20260422T192732
CREATED:20260415T074016Z
LAST-MODIFIED:20260415T074016Z
UID:129429-1777480200-1777481100@www.naturparkhotel-adler.de
SUMMARY:Sauna infusion with Nancy
DESCRIPTION:in the panorama sauna
URL:https://www.naturparkhotel-adler.de/en/event/sauna-infusion-with-nancy-339/
END:VEVENT
BEGIN:VEVENT
DTSTART;TZID=Europe/Berlin:20260429T170000
DTEND;TZID=Europe/Berlin:20260429T171500
DTSTAMP:20260422T192732
CREATED:20260415T074103Z
LAST-MODIFIED:20260415T074103Z
UID:129433-1777482000-1777482900@www.naturparkhotel-adler.de
SUMMARY:Salt peeling with Nancy
DESCRIPTION:in the steam sauna\, registration required!
URL:https://www.naturparkhotel-adler.de/en/event/salt-peeling-with-nancy-273/
END:VEVENT
BEGIN:VEVENT
DTSTART;TZID=Europe/Berlin:20260429T173000
DTEND;TZID=Europe/Berlin:20260429T174500
DTSTAMP:20260422T192732
CREATED:20260415T074149Z
LAST-MODIFIED:20260415T074149Z
UID:129438-1777483800-1777484700@www.naturparkhotel-adler.de
SUMMARY:Sauna infusion with Nancy
DESCRIPTION:in the panorama sauna
URL:https://www.naturparkhotel-adler.de/en/event/sauna-infusion-with-nancy-340/
END:VEVENT
BEGIN:VEVENT
DTSTART;TZID=Europe/Berlin:20260429T180000
DTEND;TZID=Europe/Berlin:20260429T181500
DTSTAMP:20260422T192732
CREATED:20260415T074237Z
LAST-MODIFIED:20260415T074237Z
UID:129443-1777485600-1777486500@www.naturparkhotel-adler.de
SUMMARY:Salt peeling with Nancy
DESCRIPTION:in the steam sauna\, registration required!
URL:https://www.naturparkhotel-adler.de/en/event/salt-peeling-with-nancy-274/
END:VEVENT
BEGIN:VEVENT
DTSTART;TZID=Europe/Berlin:20260429T183000
DTEND;TZID=Europe/Berlin:20260429T184500
DTSTAMP:20260422T192732
CREATED:20260415T074320Z
LAST-MODIFIED:20260415T074320Z
UID:129448-1777487400-1777488300@www.naturparkhotel-adler.de
SUMMARY:Sauna infusion with Nancy
DESCRIPTION:in the panorama sauna
URL:https://www.naturparkhotel-adler.de/en/event/sauna-infusion-with-nancy-341/
END:VEVENT
BEGIN:VEVENT
DTSTART;TZID=Europe/Berlin:20260430T133000
DTEND;TZID=Europe/Berlin:20260430T134500
DTSTAMP:20260422T192732
CREATED:20260419T100250Z
LAST-MODIFIED:20260419T100250Z
UID:129555-1777555800-1777556700@www.naturparkhotel-adler.de
SUMMARY:Ice & heat infusion with Esther
DESCRIPTION:in the panorama sauna
URL:https://www.naturparkhotel-adler.de/en/event/ice-heat-infusion-with-esther-15/
END:VEVENT
BEGIN:VEVENT
DTSTART;TZID=Europe/Berlin:20260430T141500
DTEND;TZID=Europe/Berlin:20260430T143000
DTSTAMP:20260422T192732
CREATED:20260419T100336Z
LAST-MODIFIED:20260419T100336Z
UID:129558-1777558500-1777559400@www.naturparkhotel-adler.de
SUMMARY:Salt peeling with Esther
DESCRIPTION:in the steam sauna\, registration required!
URL:https://www.naturparkhotel-adler.de/en/event/salt-peeling-with-esther-138/
END:VEVENT
BEGIN:VEVENT
DTSTART;TZID=Europe/Berlin:20260430T150000
DTEND;TZID=Europe/Berlin:20260430T151500
DTSTAMP:20260422T192732
CREATED:20260419T100423Z
LAST-MODIFIED:20260419T100423Z
UID:129563-1777561200-1777562100@www.naturparkhotel-adler.de
SUMMARY:Honey dream infusion with Esther
DESCRIPTION:in the panorama sauna
URL:https://www.naturparkhotel-adler.de/en/event/honey-dream-infusion-with-esther-7/
END:VEVENT
BEGIN:VEVENT
DTSTART;TZID=Europe/Berlin:20260430T173000
DTEND;TZID=Europe/Berlin:20260430T174500
DTSTAMP:20260422T192732
CREATED:20260419T100605Z
LAST-MODIFIED:20260419T100605Z
UID:129570-1777570200-1777571100@www.naturparkhotel-adler.de
SUMMARY:Salt peeling with Esther
DESCRIPTION:in the steam sauna\, registration required!
URL:https://www.naturparkhotel-adler.de/en/event/salt-peeling-with-esther-139/
END:VEVENT
BEGIN:VEVENT
DTSTART;TZID=Europe/Berlin:20260501T140000
DTEND;TZID=Europe/Berlin:20260501T150000
DTSTAMP:20260422T192732
CREATED:20260419T100758Z
LAST-MODIFIED:20260419T100758Z
UID:129576-1777644000-1777647600@www.naturparkhotel-adler.de
SUMMARY:Pilates with Annette
DESCRIPTION:in the gymnastics room\, registration required!
URL:https://www.naturparkhotel-adler.de/en/event/pilates-with-annette-15/
END:VEVENT
BEGIN:VEVENT
DTSTART;TZID=Europe/Berlin:20260501T153000
DTEND;TZID=Europe/Berlin:20260501T154500
DTSTAMP:20260422T192732
CREATED:20260419T100851Z
LAST-MODIFIED:20260419T100851Z
UID:129580-1777649400-1777650300@www.naturparkhotel-adler.de
SUMMARY:Sauna infusion with Annette
DESCRIPTION:in the panorama sauna
URL:https://www.naturparkhotel-adler.de/en/event/sauna-infusion-with-annette-37/
END:VEVENT
END:VCALENDAR