BEGIN:VCALENDAR
VERSION:2.0
PRODID:-//4*S Naturparkhotel Adler - ECPv6.15.16.1//NONSGML v1.0//EN
CALSCALE:GREGORIAN
METHOD:PUBLISH
X-ORIGINAL-URL:https://www.naturparkhotel-adler.de/en/
X-WR-CALDESC:Events for 4*S Naturparkhotel Adler
REFRESH-INTERVAL;VALUE=DURATION:PT1H
X-Robots-Tag:noindex
X-PUBLISHED-TTL:PT1H
BEGIN:VTIMEZONE
TZID:Europe/Berlin
BEGIN:DAYLIGHT
TZOFFSETFROM:+0100
TZOFFSETTO:+0200
TZNAME:CEST
DTSTART:20250330T010000
END:DAYLIGHT
BEGIN:STANDARD
TZOFFSETFROM:+0200
TZOFFSETTO:+0100
TZNAME:CET
DTSTART:20251026T010000
END:STANDARD
BEGIN:DAYLIGHT
TZOFFSETFROM:+0100
TZOFFSETTO:+0200
TZNAME:CEST
DTSTART:20260329T010000
END:DAYLIGHT
BEGIN:STANDARD
TZOFFSETFROM:+0200
TZOFFSETTO:+0100
TZNAME:CET
DTSTART:20261025T010000
END:STANDARD
BEGIN:DAYLIGHT
TZOFFSETFROM:+0100
TZOFFSETTO:+0200
TZNAME:CEST
DTSTART:20270328T010000
END:DAYLIGHT
BEGIN:STANDARD
TZOFFSETFROM:+0200
TZOFFSETTO:+0100
TZNAME:CET
DTSTART:20271031T010000
END:STANDARD
END:VTIMEZONE
BEGIN:VEVENT
DTSTART;TZID=Europe/Berlin:20260502T173000
DTEND;TZID=Europe/Berlin:20260502T174500
DTSTAMP:20260423T005003
CREATED:20260415T074627Z
LAST-MODIFIED:20260415T074627Z
UID:129466-1777743000-1777743900@www.naturparkhotel-adler.de
SUMMARY:Sauna infusion with Annette
DESCRIPTION:in the panorama sauna
URL:https://www.naturparkhotel-adler.de/en/event/sauna-infusion-with-annette-35/
END:VEVENT
BEGIN:VEVENT
DTSTART;TZID=Europe/Berlin:20260502T180000
DTEND;TZID=Europe/Berlin:20260502T181500
DTSTAMP:20260423T005003
CREATED:20260415T074710Z
LAST-MODIFIED:20260415T074710Z
UID:129468-1777744800-1777745700@www.naturparkhotel-adler.de
SUMMARY:Salt peeling with Annette
DESCRIPTION:in the steam sauna\, registration required!
URL:https://www.naturparkhotel-adler.de/en/event/salt-peeling-with-annette-75/
END:VEVENT
BEGIN:VEVENT
DTSTART;TZID=Europe/Berlin:20260502T180000
DTEND;TZID=Europe/Berlin:20260502T181500
DTSTAMP:20260423T005003
CREATED:20260415T074850Z
LAST-MODIFIED:20260415T074850Z
UID:129478-1777744800-1777745700@www.naturparkhotel-adler.de
SUMMARY:Salt peeling with Annette
DESCRIPTION:in the steam sauna\, registration required!
URL:https://www.naturparkhotel-adler.de/en/event/salt-peeling-with-annette-76/
END:VEVENT
BEGIN:VEVENT
DTSTART;TZID=Europe/Berlin:20260502T183000
DTEND;TZID=Europe/Berlin:20260502T184500
DTSTAMP:20260423T005003
CREATED:20260415T074800Z
LAST-MODIFIED:20260415T074800Z
UID:129474-1777746600-1777747500@www.naturparkhotel-adler.de
SUMMARY:Sauna infusion with Annette
DESCRIPTION:in the panorama sauna
URL:https://www.naturparkhotel-adler.de/en/event/sauna-infusion-with-annette-36/
END:VEVENT
BEGIN:VEVENT
DTSTART;TZID=Europe/Berlin:20260503T114500
DTEND;TZID=Europe/Berlin:20260503T120000
DTSTAMP:20260423T005003
CREATED:20260419T103054Z
LAST-MODIFIED:20260419T103054Z
UID:129600-1777808700-1777809600@www.naturparkhotel-adler.de
SUMMARY:Salt peeling with Esther
DESCRIPTION:in the steam sauna\, registration required!
URL:https://www.naturparkhotel-adler.de/en/event/salt-peeling-with-esther-140/
END:VEVENT
BEGIN:VEVENT
DTSTART;TZID=Europe/Berlin:20260503T131500
DTEND;TZID=Europe/Berlin:20260503T133000
DTSTAMP:20260423T005003
CREATED:20260419T103246Z
LAST-MODIFIED:20260419T103246Z
UID:129607-1777814100-1777815000@www.naturparkhotel-adler.de
SUMMARY:Salt peeling with Esther
DESCRIPTION:in the steam sauna\, registration required!
URL:https://www.naturparkhotel-adler.de/en/event/salt-peeling-with-esther-141/
END:VEVENT
END:VCALENDAR