BEGIN:VCALENDAR
VERSION:2.0
PRODID:-//4*S Naturparkhotel Adler - ECPv6.15.16.1//NONSGML v1.0//EN
CALSCALE:GREGORIAN
METHOD:PUBLISH
X-WR-CALNAME:4*S Naturparkhotel Adler
X-ORIGINAL-URL:https://www.naturparkhotel-adler.de/fr/
X-WR-CALDESC:Évènements pour 4*S Naturparkhotel Adler
REFRESH-INTERVAL;VALUE=DURATION:PT1H
X-Robots-Tag:noindex
X-PUBLISHED-TTL:PT1H
BEGIN:VTIMEZONE
TZID:Europe/Berlin
BEGIN:DAYLIGHT
TZOFFSETFROM:+0100
TZOFFSETTO:+0200
TZNAME:CEST
DTSTART:20250330T010000
END:DAYLIGHT
BEGIN:STANDARD
TZOFFSETFROM:+0200
TZOFFSETTO:+0100
TZNAME:CET
DTSTART:20251026T010000
END:STANDARD
BEGIN:DAYLIGHT
TZOFFSETFROM:+0100
TZOFFSETTO:+0200
TZNAME:CEST
DTSTART:20260329T010000
END:DAYLIGHT
BEGIN:STANDARD
TZOFFSETFROM:+0200
TZOFFSETTO:+0100
TZNAME:CET
DTSTART:20261025T010000
END:STANDARD
BEGIN:DAYLIGHT
TZOFFSETFROM:+0100
TZOFFSETTO:+0200
TZNAME:CEST
DTSTART:20270328T010000
END:DAYLIGHT
BEGIN:STANDARD
TZOFFSETFROM:+0200
TZOFFSETTO:+0100
TZNAME:CET
DTSTART:20271031T010000
END:STANDARD
END:VTIMEZONE
BEGIN:VEVENT
DTSTART;TZID=Europe/Berlin:20260420T103000
DTEND;TZID=Europe/Berlin:20260420T123000
DTSTAMP:20260420T044317
CREATED:20260413T104537Z
LAST-MODIFIED:20260413T104537Z
UID:129263-1776681000-1776688200@www.naturparkhotel-adler.de
SUMMARY:Bain de forêt avec Esther
DESCRIPTION:Inscription nécessaire !
URL:https://www.naturparkhotel-adler.de/fr/event/bain-de-foret-avec-esther-5/
END:VEVENT
BEGIN:VEVENT
DTSTART;TZID=Europe/Berlin:20260420T151500
DTEND;TZID=Europe/Berlin:20260420T153000
DTSTAMP:20260420T044317
CREATED:20260413T104719Z
LAST-MODIFIED:20260413T104719Z
UID:129273-1776698100-1776699000@www.naturparkhotel-adler.de
SUMMARY:Peeling au sel avec Esther
DESCRIPTION:dans le sauna à vapeur\, inscription obligatoire !
URL:https://www.naturparkhotel-adler.de/fr/event/peeling-au-sel-avec-esther-128/
END:VEVENT
BEGIN:VEVENT
DTSTART;TZID=Europe/Berlin:20260420T164500
DTEND;TZID=Europe/Berlin:20260420T170000
DTSTAMP:20260420T044317
CREATED:20260413T104855Z
LAST-MODIFIED:20260413T104903Z
UID:129279-1776703500-1776704400@www.naturparkhotel-adler.de
SUMMARY:Peeling au sel avec Esther
DESCRIPTION:dans le sauna à vapeur\, inscription obligatoire !
URL:https://www.naturparkhotel-adler.de/fr/event/peeling-au-sel-avec-esther-129/
END:VEVENT
END:VCALENDAR