BEGIN:VCALENDAR
VERSION:2.0
PRODID:-//4*S Naturparkhotel Adler - ECPv6.15.16.1//NONSGML v1.0//EN
CALSCALE:GREGORIAN
METHOD:PUBLISH
X-WR-CALNAME:4*S Naturparkhotel Adler
X-ORIGINAL-URL:https://www.naturparkhotel-adler.de/fr/
X-WR-CALDESC:Évènements pour 4*S Naturparkhotel Adler
REFRESH-INTERVAL;VALUE=DURATION:PT1H
X-Robots-Tag:noindex
X-PUBLISHED-TTL:PT1H
BEGIN:VTIMEZONE
TZID:Europe/Berlin
BEGIN:DAYLIGHT
TZOFFSETFROM:+0100
TZOFFSETTO:+0200
TZNAME:CEST
DTSTART:20250330T010000
END:DAYLIGHT
BEGIN:STANDARD
TZOFFSETFROM:+0200
TZOFFSETTO:+0100
TZNAME:CET
DTSTART:20251026T010000
END:STANDARD
BEGIN:DAYLIGHT
TZOFFSETFROM:+0100
TZOFFSETTO:+0200
TZNAME:CEST
DTSTART:20260329T010000
END:DAYLIGHT
BEGIN:STANDARD
TZOFFSETFROM:+0200
TZOFFSETTO:+0100
TZNAME:CET
DTSTART:20261025T010000
END:STANDARD
BEGIN:DAYLIGHT
TZOFFSETFROM:+0100
TZOFFSETTO:+0200
TZNAME:CEST
DTSTART:20270328T010000
END:DAYLIGHT
BEGIN:STANDARD
TZOFFSETFROM:+0200
TZOFFSETTO:+0100
TZNAME:CET
DTSTART:20271031T010000
END:STANDARD
END:VTIMEZONE
BEGIN:VEVENT
DTSTART;TZID=Europe/Berlin:20260425T110000
DTEND;TZID=Europe/Berlin:20260425T111500
DTSTAMP:20260425T180158
CREATED:20260414T083616Z
LAST-MODIFIED:20260414T083625Z
UID:129322-1777114800-1777115700@www.naturparkhotel-adler.de
SUMMARY:Infusion de bols chantants avec Esther
DESCRIPTION:dans le sauna panoramique
URL:https://www.naturparkhotel-adler.de/fr/event/infusion-de-bols-chantants-avec-esther-44/
END:VEVENT
BEGIN:VEVENT
DTSTART;TZID=Europe/Berlin:20260425T114500
DTEND;TZID=Europe/Berlin:20260425T120000
DTSTAMP:20260425T180158
CREATED:20260414T083711Z
LAST-MODIFIED:20260414T083720Z
UID:129326-1777117500-1777118400@www.naturparkhotel-adler.de
SUMMARY:Peeling au sel avec Esther
DESCRIPTION:dans le sauna à vapeur\, inscription obligatoire !
URL:https://www.naturparkhotel-adler.de/fr/event/peeling-au-sel-avec-esther-132/
END:VEVENT
BEGIN:VEVENT
DTSTART;TZID=Europe/Berlin:20260425T123000
DTEND;TZID=Europe/Berlin:20260425T124500
DTSTAMP:20260425T180158
CREATED:20260414T083804Z
LAST-MODIFIED:20260414T083804Z
UID:129332-1777120200-1777121100@www.naturparkhotel-adler.de
SUMMARY:Infusion de rêve au miel avec Esther
DESCRIPTION:dans le sauna panoramique
URL:https://www.naturparkhotel-adler.de/fr/event/infusion-de-reve-au-miel-avec-esther-6/
END:VEVENT
BEGIN:VEVENT
DTSTART;TZID=Europe/Berlin:20260425T131500
DTEND;TZID=Europe/Berlin:20260425T133000
DTSTAMP:20260425T180158
CREATED:20260414T083859Z
LAST-MODIFIED:20260414T083859Z
UID:129334-1777122900-1777123800@www.naturparkhotel-adler.de
SUMMARY:Peeling au sel avec Esther
DESCRIPTION:dans le sauna à vapeur\, inscription obligatoire !
URL:https://www.naturparkhotel-adler.de/fr/event/peeling-au-sel-avec-esther-133/
END:VEVENT
BEGIN:VEVENT
DTSTART;TZID=Europe/Berlin:20260425T144500
DTEND;TZID=Europe/Berlin:20260425T150000
DTSTAMP:20260425T180158
CREATED:20260414T084129Z
LAST-MODIFIED:20260414T084137Z
UID:129341-1777128300-1777129200@www.naturparkhotel-adler.de
SUMMARY:Peeling au sel avec Esther
DESCRIPTION:dans le sauna à vapeur\, inscription obligatoire !
URL:https://www.naturparkhotel-adler.de/fr/event/peeling-au-sel-avec-esther-134/
END:VEVENT
BEGIN:VEVENT
DTSTART;TZID=Europe/Berlin:20260425T150000
DTEND;TZID=Europe/Berlin:20260425T153000
DTSTAMP:20260425T180158
CREATED:20260405T101814Z
LAST-MODIFIED:20260405T101822Z
UID:129124-1777129200-1777131000@www.naturparkhotel-adler.de
SUMMARY:Aqua Gym avec Angela
DESCRIPTION:à la piscine\, inscription obligatoire !
URL:https://www.naturparkhotel-adler.de/fr/event/aqua-gym-avec-angela-21/
END:VEVENT
BEGIN:VEVENT
DTSTART;TZID=Europe/Berlin:20260425T150000
DTEND;TZID=Europe/Berlin:20260425T153000
DTSTAMP:20260425T180158
CREATED:20260414T084229Z
LAST-MODIFIED:20260414T084236Z
UID:129346-1777129200-1777131000@www.naturparkhotel-adler.de
SUMMARY:Aqua Gym avec Angela
DESCRIPTION:à la piscine\, inscription obligatoire !
URL:https://www.naturparkhotel-adler.de/fr/event/aqua-gym-avec-angela-22/
END:VEVENT
END:VCALENDAR